BEGIN:VCALENDAR
VERSION:2.0
PRODID:-//wp-events-plugin.com//7.2.3.1//EN
TZID:America/Chicago
X-WR-TIMEZONE:America/Chicago
BEGIN:VEVENT
UID:205@earthfest.wisc.edu
DTSTART;TZID=America/Chicago:20260422T140000
DTEND;TZID=America/Chicago:20260422T170000
DTSTAMP:20260309T202044Z
URL:https://earthfest.wisc.edu/events/wateruw-madison-2026-spring-symposiu
 m-blue-futures/
SUMMARY:Water@UW-Madison 2026 Spring Symposium: Blue Futures
DESCRIPTION:As emerging technologies\, scientific innovation\, and evolving
  policy landscapes transform the way we live and work\, this event explore
 s their influence on water systems. Hosted by Water@UW-Madison.
CATEGORIES:Lecture/discussion
LOCATION:Frank Holt Center\, 1650 Kronshage Drive\, Madison\, 
X-APPLE-STRUCTURED-LOCATION;VALUE=URI;X-ADDRESS=1650 Kronshage Drive\, Madi
 son\, ;X-APPLE-RADIUS=100;X-TITLE=Frank Holt Center:geo:0,0
END:VEVENT
BEGIN:VTIMEZONE
TZID:America/Chicago
X-LIC-LOCATION:America/Chicago
BEGIN:DAYLIGHT
DTSTART:20260308T030000
TZOFFSETFROM:-0600
TZOFFSETTO:-0500
TZNAME:CDT
END:DAYLIGHT
END:VTIMEZONE
END:VCALENDAR