BEGIN:VCALENDAR
VERSION:2.0
PRODID:-//wp-events-plugin.com//7.2.3.1//EN
TZID:America/Chicago
X-WR-TIMEZONE:America/Chicago
BEGIN:VEVENT
UID:34@earthfest.wisc.edu
DTSTART;TZID=America/Chicago:20240422T160000
DTEND;TZID=America/Chicago:20240422T183000
DTSTAMP:20240418T120202Z
URL:https://earthfest.wisc.edu/events/the-big-splash-aquaponics-open-house
 -and-hydroponics-workshop/
SUMMARY:The Big Splash: Aquaponics Open House and Hydroponics Workshop
DESCRIPTION:Learn about the recently completed aquaponics system and build 
 and bring home a small hydroponics system to grow food on your windowsill.
CATEGORIES:Tour/open house,Workshop
LOCATION:D.C. Smith Greenhouse\, 465 Babcock Drive\, Madison\, United State
 s
X-APPLE-STRUCTURED-LOCATION;VALUE=URI;X-ADDRESS=465 Babcock Drive\, Madison
 \, United States;X-APPLE-RADIUS=100;X-TITLE=D.C. Smith Greenhouse:geo:0,0
END:VEVENT
BEGIN:VTIMEZONE
TZID:America/Chicago
X-LIC-LOCATION:America/Chicago
BEGIN:DAYLIGHT
DTSTART:20240310T030000
TZOFFSETFROM:-0600
TZOFFSETTO:-0500
TZNAME:CDT
END:DAYLIGHT
END:VTIMEZONE
END:VCALENDAR