BEGIN:VCALENDAR
VERSION:2.0
PRODID:-//wp-events-plugin.com//7.2.3.1//EN
TZID:America/Chicago
X-WR-TIMEZONE:America/Chicago
BEGIN:VEVENT
UID:99@earthfest.wisc.edu
DTSTART;TZID=America/Chicago:20250422T190000
DTEND;TZID=America/Chicago:20250422T203000
DTSTAMP:20250425T202809Z
URL:https://earthfest.wisc.edu/events/tales-from-planet-earth-presents-pla
 netwalker/
SUMMARY:Tales from Planet Earth Presents Planetwalker
DESCRIPTION:Join the Nelson Institute for Environmental Studies during Ear
 th Fest for a special screening of Planetwalker\, the acclaimed document
 ary shortlisted for the 2025 Oscars.
CATEGORIES:Arts
LOCATION:Marquee Theater\, Union South\, 1308 W. Dayton Street\, Madison\, 
 WI\, United States
X-APPLE-STRUCTURED-LOCATION;VALUE=URI;X-ADDRESS=1308 W. Dayton Street\, Mad
 ison\, WI\, United States;X-APPLE-RADIUS=100;X-TITLE=Marquee Theater\, Uni
 on South:geo:0,0
END:VEVENT
BEGIN:VTIMEZONE
TZID:America/Chicago
X-LIC-LOCATION:America/Chicago
BEGIN:DAYLIGHT
DTSTART:20250309T030000
TZOFFSETFROM:-0600
TZOFFSETTO:-0500
TZNAME:CDT
END:DAYLIGHT
END:VTIMEZONE
END:VCALENDAR