BEGIN:VCALENDAR
VERSION:2.0
PRODID:-//wp-events-plugin.com//7.2.3.1//EN
TZID:America/Chicago
X-WR-TIMEZONE:America/Chicago
BEGIN:VEVENT
UID:49@earthfest.wisc.edu
DTSTART;TZID=America/Chicago:20240424T150000
DTEND;TZID=America/Chicago:20240424T163000
DTSTAMP:20240418T115822Z
URL:https://earthfest.wisc.edu/events/sustainability-research-networking-a
 nd-brainstorming/
SUMMARY:Sustainability Research Networking and Brainstorming
DESCRIPTION:Join fellow researchers to engage in facilitated discussions ar
 ound sustainability.
CATEGORIES:Workshop
LOCATION:Memorial Union\, Old Madison (third floor east)\, 800 Langdon Stre
 et\, Madison\, WI\, United States
X-APPLE-STRUCTURED-LOCATION;VALUE=URI;X-ADDRESS=800 Langdon Street\, Madiso
 n\, WI\, United States;X-APPLE-RADIUS=100;X-TITLE=Memorial Union\, Old Mad
 ison (third floor east):geo:0,0
END:VEVENT
BEGIN:VTIMEZONE
TZID:America/Chicago
X-LIC-LOCATION:America/Chicago
BEGIN:DAYLIGHT
DTSTART:20240310T030000
TZOFFSETFROM:-0600
TZOFFSETTO:-0500
TZNAME:CDT
END:DAYLIGHT
END:VTIMEZONE
END:VCALENDAR