BEGIN:VCALENDAR
VERSION:2.0
PRODID:-//wp-events-plugin.com//7.2.3.1//EN
TZID:America/Chicago
X-WR-TIMEZONE:America/Chicago
BEGIN:VEVENT
UID:29@earthfest.wisc.edu
DTSTART;TZID=America/Chicago:20240423T110000
DTEND;TZID=America/Chicago:20240423T120000
DTSTAMP:20240411T190842Z
URL:https://earthfest.wisc.edu/events/rising-methane-emissions-from-boreal
 -arctic-wetlands/
SUMMARY:Rising Methane Emissions from Boreal-Arctic Wetlands
DESCRIPTION:Speaker: Min Chen\, assistant professor\, Department of Forest 
 and Wildlife Ecology\, UW–Madison.
CATEGORIES:Lecture/discussion,Virtual
LOCATION:https://uwmadison.zoom.us/meeting/register/tJcqduyvrzsrHdCpXkrHJ9D
 38hWklAtLStWt#/registration
END:VEVENT
BEGIN:VTIMEZONE
TZID:America/Chicago
X-LIC-LOCATION:America/Chicago
BEGIN:DAYLIGHT
DTSTART:20240310T030000
TZOFFSETFROM:-0600
TZOFFSETTO:-0500
TZNAME:CDT
END:DAYLIGHT
END:VTIMEZONE
END:VCALENDAR