BEGIN:VCALENDAR
VERSION:2.0
PRODID:-//wp-events-plugin.com//7.2.3.1//EN
TZID:America/Chicago
X-WR-TIMEZONE:America/Chicago
BEGIN:VEVENT
UID:206@earthfest.wisc.edu
DTSTART;TZID=America/Chicago:20260422T153000
DTEND;TZID=America/Chicago:20260422T170000
DTSTAMP:20260309T203010Z
URL:https://earthfest.wisc.edu/events/plants-for-the-apocalypse-iv/
SUMMARY:Plants for the Apocalypse IV
DESCRIPTION:What plants would you want around for the end of the world as w
 e know it? Join us to learn more about how plants are our partners in life
  and death. Hosted by Allen Centennial Garden and the School of Pharmacy.
CATEGORIES:Workshop
LOCATION:D.C. Smith Greenhouse\, 465 Babcock Drive\, Madison\, United State
 s
X-APPLE-STRUCTURED-LOCATION;VALUE=URI;X-ADDRESS=465 Babcock Drive\, Madison
 \, United States;X-APPLE-RADIUS=100;X-TITLE=D.C. Smith Greenhouse:geo:0,0
END:VEVENT
BEGIN:VTIMEZONE
TZID:America/Chicago
X-LIC-LOCATION:America/Chicago
BEGIN:DAYLIGHT
DTSTART:20260308T030000
TZOFFSETFROM:-0600
TZOFFSETTO:-0500
TZNAME:CDT
END:DAYLIGHT
END:VTIMEZONE
END:VCALENDAR