BEGIN:VCALENDAR
VERSION:2.0
PRODID:-//wp-events-plugin.com//7.2.3.1//EN
TZID:America/Chicago
X-WR-TIMEZONE:America/Chicago
BEGIN:VEVENT
UID:45@earthfest.wisc.edu
DTSTART;TZID=America/Chicago:20240424T150000
DTEND;TZID=America/Chicago:20240424T170000
DTSTAMP:20240321T182146Z
URL:https://earthfest.wisc.edu/events/plant-give-away/
SUMMARY:Plant Give Away
DESCRIPTION:Bring your own mug to Allen Centennial Garden and transform it 
 into the perfect little pot for houseplants and herbs.
CATEGORIES:Workshop
LOCATION:Allen Centennial Garden\, 620 Babcock Drive\, Madison\, United Sta
 tes
X-APPLE-STRUCTURED-LOCATION;VALUE=URI;X-ADDRESS=620 Babcock Drive\, Madison
 \, United States;X-APPLE-RADIUS=100;X-TITLE=Allen Centennial Garden:geo:0,
 0
END:VEVENT
BEGIN:VTIMEZONE
TZID:America/Chicago
X-LIC-LOCATION:America/Chicago
BEGIN:DAYLIGHT
DTSTART:20240310T030000
TZOFFSETFROM:-0600
TZOFFSETTO:-0500
TZNAME:CDT
END:DAYLIGHT
END:VTIMEZONE
END:VCALENDAR