BEGIN:VCALENDAR
VERSION:2.0
PRODID:-//wp-events-plugin.com//7.2.3.1//EN
TZID:America/Chicago
X-WR-TIMEZONE:America/Chicago
BEGIN:VEVENT
UID:16@earthfest.wisc.edu
DTSTART;TZID=America/Chicago:20240424T123000
DTEND;TZID=America/Chicago:20240424T143000
DTSTAMP:20240418T120434Z
URL:https://earthfest.wisc.edu/events/new-uw-madison-employee-sustainabili
 ty-walking-tour/
SUMMARY:New UW-Madison Employee Sustainability Walking Tour
DESCRIPTION:The tour will highlight projects that are a collaboration betwe
 en students\, FP&M\, and other UW departments to reduce the environmental 
 impact and improve the campus experience.
CATEGORIES:Tour/open house
LOCATION:21 N. Park Street\, Room 6406\, 21 N. Park Street\, Madison\, Unit
 ed States
X-APPLE-STRUCTURED-LOCATION;VALUE=URI;X-ADDRESS=21 N. Park Street\, Madison
 \, United States;X-APPLE-RADIUS=100;X-TITLE=21 N. Park Street\, Room 6406:
 geo:0,0
END:VEVENT
BEGIN:VTIMEZONE
TZID:America/Chicago
X-LIC-LOCATION:America/Chicago
BEGIN:DAYLIGHT
DTSTART:20240310T030000
TZOFFSETFROM:-0600
TZOFFSETTO:-0500
TZNAME:CDT
END:DAYLIGHT
END:VTIMEZONE
END:VCALENDAR