BEGIN:VCALENDAR
VERSION:2.0
PRODID:-//wp-events-plugin.com//7.2.3.1//EN
TZID:America/Chicago
X-WR-TIMEZONE:America/Chicago
BEGIN:VEVENT
UID:37@earthfest.wisc.edu
DTSTART;TZID=America/Chicago:20240424T130000
DTEND;TZID=America/Chicago:20240424T140000
DTSTAMP:20240411T190918Z
URL:https://earthfest.wisc.edu/events/music-sound-and-environment/
SUMMARY:Music\, Sound\, and Environment
DESCRIPTION:Hear from UW–Madison faculty and students on the intersection
 s between music\, sound\, and environment.
CATEGORIES:Lecture/discussion,Virtual
LOCATION:140 Science Hall\, 550 N. Park Street\, Madison\, United States
X-APPLE-STRUCTURED-LOCATION;VALUE=URI;X-ADDRESS=550 N. Park Street\, Madiso
 n\, United States;X-APPLE-RADIUS=100;X-TITLE=140 Science Hall:geo:0,0
END:VEVENT
BEGIN:VTIMEZONE
TZID:America/Chicago
X-LIC-LOCATION:America/Chicago
BEGIN:DAYLIGHT
DTSTART:20240310T030000
TZOFFSETFROM:-0600
TZOFFSETTO:-0500
TZNAME:CDT
END:DAYLIGHT
END:VTIMEZONE
END:VCALENDAR