BEGIN:VCALENDAR
VERSION:2.0
PRODID:-//wp-events-plugin.com//7.2.3.1//EN
TZID:America/Chicago
X-WR-TIMEZONE:America/Chicago
BEGIN:VEVENT
UID:27@earthfest.wisc.edu
DTSTART;TZID=America/Chicago:20240422T120000
DTEND;TZID=America/Chicago:20240422T130000
DTSTAMP:20240411T143321Z
URL:https://earthfest.wisc.edu/events/lecture-with-jeff-goodell/
SUMMARY:The Heat Will Kill You First: A Conversation on Climate Change with
  author Jeff Goodell
DESCRIPTION:Jeff Goodell is an award-winning journalist\, author of seven b
 ooks\, and contributing writer at Rolling Stone\, where he has covered cli
 mate change for more than two decades.
CATEGORIES:Lecture/discussion
LOCATION:Memorial Union\, Tripp Commons (second floor)\, 800 Langdon Street
 \, Madison\, WI\, 53716\, United States
X-APPLE-STRUCTURED-LOCATION;VALUE=URI;X-ADDRESS=800 Langdon Street\, Madiso
 n\, WI\, 53716\, United States;X-APPLE-RADIUS=100;X-TITLE=Memorial Union\,
  Tripp Commons (second floor):geo:0,0
END:VEVENT
BEGIN:VTIMEZONE
TZID:America/Chicago
X-LIC-LOCATION:America/Chicago
BEGIN:DAYLIGHT
DTSTART:20240310T030000
TZOFFSETFROM:-0600
TZOFFSETTO:-0500
TZNAME:CDT
END:DAYLIGHT
END:VTIMEZONE
END:VCALENDAR