BEGIN:VCALENDAR
VERSION:2.0
PRODID:-//wp-events-plugin.com//7.2.3.1//EN
TZID:America/Chicago
X-WR-TIMEZONE:America/Chicago
BEGIN:VEVENT
UID:12@earthfest.wisc.edu
DTSTART;TZID=America/Chicago:20240422T150000
DTEND;TZID=America/Chicago:20240422T160000
DTSTAMP:20240415T160130Z
URL:https://earthfest.wisc.edu/events/how-good-food-goes-bad-understanding
 -and-preventing-food-waste/
SUMMARY:How Good Food Goes Bad: Understanding and Preventing Food Waste
DESCRIPTION:This interactive session will help participants understand the 
 reasons why good food goes bad\, help decode "best by" dates\, and develop
  strategies to reduce food waste.
CATEGORIES:Lecture/discussion,Workshop
LOCATION:205 Babcock Hall\, 1605 Linden Drive\, Madison\, United States
X-APPLE-STRUCTURED-LOCATION;VALUE=URI;X-ADDRESS=1605 Linden Drive\, Madison
 \, United States;X-APPLE-RADIUS=100;X-TITLE=205 Babcock Hall:geo:0,0
END:VEVENT
BEGIN:VTIMEZONE
TZID:America/Chicago
X-LIC-LOCATION:America/Chicago
BEGIN:DAYLIGHT
DTSTART:20240310T030000
TZOFFSETFROM:-0600
TZOFFSETTO:-0500
TZNAME:CDT
END:DAYLIGHT
END:VTIMEZONE
END:VCALENDAR