BEGIN:VCALENDAR
VERSION:2.0
PRODID:-//wp-events-plugin.com//7.2.3.1//EN
TZID:America/Chicago
X-WR-TIMEZONE:America/Chicago
BEGIN:VEVENT
UID:36@earthfest.wisc.edu
DTSTART;TZID=America/Chicago:20240424T100000
DTEND;TZID=America/Chicago:20240424T110000
DTSTAMP:20240321T181659Z
URL:https://earthfest.wisc.edu/events/green-fund-walking-tour/
SUMMARY:Green Fund Walking Tour
DESCRIPTION:Learn about student-initiated Green Fund projects that address 
 the environmental footprint\, social impact\, and operating costs of UW fa
 cilities by walking around campus to see these projects in-person!
CATEGORIES:Outdoors,Tour/open house
LOCATION:East Campus Mall\, 770 W. Dayton Street\, Madison\, United States
X-APPLE-STRUCTURED-LOCATION;VALUE=URI;X-ADDRESS=770 W. Dayton Street\, Madi
 son\, United States;X-APPLE-RADIUS=100;X-TITLE=East Campus Mall:geo:0,0
END:VEVENT
BEGIN:VTIMEZONE
TZID:America/Chicago
X-LIC-LOCATION:America/Chicago
BEGIN:DAYLIGHT
DTSTART:20240310T030000
TZOFFSETFROM:-0600
TZOFFSETTO:-0500
TZNAME:CDT
END:DAYLIGHT
END:VTIMEZONE
END:VCALENDAR