BEGIN:VCALENDAR
VERSION:2.0
PRODID:-//wp-events-plugin.com//7.2.3.1//EN
TZID:America/Chicago
X-WR-TIMEZONE:America/Chicago
BEGIN:VEVENT
UID:38@earthfest.wisc.edu
DTSTART;TZID=America/Chicago:20240424T173000
DTEND;TZID=America/Chicago:20240424T193000
DTSTAMP:20240415T160658Z
URL:https://earthfest.wisc.edu/events/food-sustainability-roundtable-dinne
 r/
SUMMARY:Food Sustainability: Roundtable Dinner
DESCRIPTION:This event will include a no-cost dinner\, flash talks from ind
 ividuals involved with food sustainability on campus\, and a space to expr
 ess concerns and accomplishments related to campus sustainability.
CATEGORIES:Food
LOCATION:The Crossing\, 1127 University Avenue\, Madison\, WI\, United Stat
 es
X-APPLE-STRUCTURED-LOCATION;VALUE=URI;X-ADDRESS=1127 University Avenue\, Ma
 dison\, WI\, United States;X-APPLE-RADIUS=100;X-TITLE=The Crossing:geo:0,0
END:VEVENT
BEGIN:VTIMEZONE
TZID:America/Chicago
X-LIC-LOCATION:America/Chicago
BEGIN:DAYLIGHT
DTSTART:20240310T030000
TZOFFSETFROM:-0600
TZOFFSETTO:-0500
TZNAME:CDT
END:DAYLIGHT
END:VTIMEZONE
END:VCALENDAR