BEGIN:VCALENDAR
VERSION:2.0
PRODID:-//wp-events-plugin.com//7.2.3.1//EN
TZID:America/Chicago
X-WR-TIMEZONE:America/Chicago
BEGIN:VEVENT
UID:50@earthfest.wisc.edu
DTSTART;TZID=America/Chicago:20240424T130000
DTEND;TZID=America/Chicago:20240424T150000
DTSTAMP:20240424T144427Z
URL:https://earthfest.wisc.edu/events/fighting-fast-fashion-all-gender-clo
 thing-swap/
SUMMARY:Fighting Fast Fashion: All Gender Clothing Swap
DESCRIPTION:Do your part to aid sustainable fashion and get some new fits b
 y doing some free "shopping" at our clothing swap\, hosted by the Office o
 f Inclusion Education.
LOCATION:Library Mall lawn\, 715 State Street\, Madison\, WI\, United State
 s
X-APPLE-STRUCTURED-LOCATION;VALUE=URI;X-ADDRESS=715 State Street\, Madison\
 , WI\, United States;X-APPLE-RADIUS=100;X-TITLE=Library Mall lawn:geo:0,0
END:VEVENT
BEGIN:VTIMEZONE
TZID:America/Chicago
X-LIC-LOCATION:America/Chicago
BEGIN:DAYLIGHT
DTSTART:20240310T030000
TZOFFSETFROM:-0600
TZOFFSETTO:-0500
TZNAME:CDT
END:DAYLIGHT
END:VTIMEZONE
END:VCALENDAR