BEGIN:VCALENDAR
VERSION:2.0
PRODID:-//wp-events-plugin.com//7.2.3.1//EN
TZID:America/Chicago
X-WR-TIMEZONE:America/Chicago
BEGIN:VEVENT
UID:3@earthfest.wisc.edu
DTSTART;TZID=America/Chicago:20240419T130000
DTEND;TZID=America/Chicago:20240419T183000
DTSTAMP:20240415T160802Z
URL:https://earthfest.wisc.edu/events/earth-fest-kickoff/
SUMMARY:Earth Fest Kickoff Celebration
DESCRIPTION:Join us from 1 to 6:30 p.m. on April 19 as Earth Fest begins wi
 th a fun and engaging lineup of lectures\, visual and performing arts\, an
 d interactive exhibits. The keynote speaker is Tony Reames\, a leading int
 ernational energy and environmental justice scholar and government policy 
 advisor.
CATEGORIES:Arts,Lecture/discussion
LOCATION:Discovery Building\, 330 N. Orchard Street\, Madison\, United Stat
 es
X-APPLE-STRUCTURED-LOCATION;VALUE=URI;X-ADDRESS=330 N. Orchard Street\, Mad
 ison\, United States;X-APPLE-RADIUS=100;X-TITLE=Discovery Building:geo:0,0
END:VEVENT
BEGIN:VTIMEZONE
TZID:America/Chicago
X-LIC-LOCATION:America/Chicago
BEGIN:DAYLIGHT
DTSTART:20240310T030000
TZOFFSETFROM:-0600
TZOFFSETTO:-0500
TZNAME:CDT
END:DAYLIGHT
END:VTIMEZONE
END:VCALENDAR