BEGIN:VCALENDAR
VERSION:2.0
PRODID:-//wp-events-plugin.com//7.2.3.1//EN
TZID:America/Chicago
X-WR-TIMEZONE:America/Chicago
BEGIN:VEVENT
UID:197@earthfest.wisc.edu
DTSTART;TZID=America/Chicago:20260421T160000
DTEND;TZID=America/Chicago:20260421T190000
DTSTAMP:20260415T121012Z
URL:https://earthfest.wisc.edu/events/earth-fest-forum/
SUMMARY:Earth Fest Forum
DESCRIPTION:The Earth Fest Forum will feature a keynote presentation by Isa
 ias Hernandez\, an exhibit hall with art\, T-shirt printing\, and more.
CATEGORIES:Lecture/discussion
LOCATION:Discovery Building\, 330 N. Orchard Street\, Madison\, United Stat
 es
X-APPLE-STRUCTURED-LOCATION;VALUE=URI;X-ADDRESS=330 N. Orchard Street\, Mad
 ison\, United States;X-APPLE-RADIUS=100;X-TITLE=Discovery Building:geo:0,0
END:VEVENT
BEGIN:VTIMEZONE
TZID:America/Chicago
X-LIC-LOCATION:America/Chicago
BEGIN:DAYLIGHT
DTSTART:20260308T030000
TZOFFSETFROM:-0600
TZOFFSETTO:-0500
TZNAME:CDT
END:DAYLIGHT
END:VTIMEZONE
END:VCALENDAR