BEGIN:VCALENDAR
VERSION:2.0
PRODID:-//wp-events-plugin.com//7.2.3.1//EN
TZID:America/Chicago
X-WR-TIMEZONE:America/Chicago
BEGIN:VEVENT
UID:220@earthfest.wisc.edu
DTSTART;TZID=America/Chicago:20260423T173000
DTEND;TZID=America/Chicago:20260423T183000
DTSTAMP:20260327T152209Z
URL:https://earthfest.wisc.edu/events/climate-change-theatre-action/
SUMMARY:Climate Change Theatre Action
DESCRIPTION:Theatre and dance students will join for an evening of immersiv
 e theatrical performance taking over UW–Madison’s Science Hall! Hosted
  by UW–Madison Theatre and Drama and UW–Madison Dance.
CATEGORIES:Arts
LOCATION:Science Hall\, 550 N. Park Street\, Madison\, United States
X-APPLE-STRUCTURED-LOCATION;VALUE=URI;X-ADDRESS=550 N. Park Street\, Madiso
 n\, United States;X-APPLE-RADIUS=100;X-TITLE=Science Hall:geo:0,0
END:VEVENT
BEGIN:VTIMEZONE
TZID:America/Chicago
X-LIC-LOCATION:America/Chicago
BEGIN:DAYLIGHT
DTSTART:20260308T030000
TZOFFSETFROM:-0600
TZOFFSETTO:-0500
TZNAME:CDT
END:DAYLIGHT
END:VTIMEZONE
END:VCALENDAR