BEGIN:VCALENDAR
VERSION:2.0
PRODID:-//wp-events-plugin.com//7.2.3.1//EN
TZID:America/Chicago
X-WR-TIMEZONE:America/Chicago
BEGIN:VEVENT
UID:207@earthfest.wisc.edu
DTSTART;TZID=America/Chicago:20260422T173000
DTEND;TZID=America/Chicago:20260422T193000
DTSTAMP:20260309T203456Z
URL:https://earthfest.wisc.edu/events/adopt-a-plant/
SUMMARY:Adopt a Plant
DESCRIPTION:Paint a pot\, choose a succulent or plant\, and take a little l
 ife home with you. Hosted by Badger Supports and Environmental Science Clu
 b.
CATEGORIES:Workshop
LOCATION:Student Activity Center Caucus Room 4204\, 333 East Campus Mall\, 
 Madison\, United States
X-APPLE-STRUCTURED-LOCATION;VALUE=URI;X-ADDRESS=333 East Campus Mall\, Madi
 son\, United States;X-APPLE-RADIUS=100;X-TITLE=Student Activity Center Cau
 cus Room 4204:geo:0,0
END:VEVENT
BEGIN:VTIMEZONE
TZID:America/Chicago
X-LIC-LOCATION:America/Chicago
BEGIN:DAYLIGHT
DTSTART:20260308T030000
TZOFFSETFROM:-0600
TZOFFSETTO:-0500
TZNAME:CDT
END:DAYLIGHT
END:VTIMEZONE
END:VCALENDAR