BEGIN:VCALENDAR
VERSION:2.0
PRODID:-//wp-events-plugin.com//7.2.3.1//EN
TZID:America/Chicago
X-WR-TIMEZONE:America/Chicago
BEGIN:VEVENT
UID:30@earthfest.wisc.edu
DTSTART;TZID=America/Chicago:20240425T161500
DTEND;TZID=America/Chicago:20240425T171500
DTSTAMP:20240411T190939Z
URL:https://earthfest.wisc.edu/events/achieving-drawdown-a-hopeful-science
 -based-plan-to-address-climate-change/
SUMMARY:Achieving Drawdown: A Hopeful\, Science-Based Plan to Address Clima
 te Change
DESCRIPTION:Speaker: Jonathan Foley\, executive director\, Project Drawdown
 .
CATEGORIES:Lecture/discussion,Virtual
LOCATION:Room 1800\, Engineering Hall\, 1415 Engineering Drive\, Madison\, 
 United States
X-APPLE-STRUCTURED-LOCATION;VALUE=URI;X-ADDRESS=1415 Engineering Drive\, Ma
 dison\, United States;X-APPLE-RADIUS=100;X-TITLE=Room 1800\, Engineering H
 all:geo:0,0
END:VEVENT
BEGIN:VTIMEZONE
TZID:America/Chicago
X-LIC-LOCATION:America/Chicago
BEGIN:DAYLIGHT
DTSTART:20240310T030000
TZOFFSETFROM:-0600
TZOFFSETTO:-0500
TZNAME:CDT
END:DAYLIGHT
END:VTIMEZONE
END:VCALENDAR